BEGIN:VCALENDAR
VERSION:2.0
PRODID:Imitheme.com 
BEGIN:VEVENT
UID:20260422T1644201192940747
DTSTAMP;TZID=UTC:2026-04-22 16:44:20
DTSTART;TZID=Asia/Ho_Chi_Minh:20260422T164420
DTEND;TZID=Asia/Ho_Chi_Minh:20260422T164420
SUMMARY:DeutschenTreff Hanoi in July - Summer Edition
LOCATION:GBA Office
DESCRIPTION:Dear Members and Friends in Hanoi, After the very sociable and fun kick-off DeutschenTreff Hanoi last month, we will have another such popular networking event in Hanoi. When: Thursday, 9 July 2020, 6:30PM- 9PM Where: Sunset Bar - InterContinental Hanoi Westlake 5 Tu Hoa Street, Quang An, Tay Ho, Hanoi Free entrance with complimentary selected canapes Drink: Soft-drink: 60k | Beer: 100k | Wine: 140k This time, we hope to welcome many of you at the iconic Sunset Bar of InterContinental Hanoi Westlake. We chose this special location for you this time, as we are happy and honored that we can welcome the German Ambassador H.E. Dr. Guido Hildner and the Ambassador of Switzerland, H.E. Ivo Sieber at this occasion, as well as Deputy Head of Mission Mr Weert Boerner. GBA Chairman, Mr Erik Petermoeller will also finally be in Hanoi this time to click glasses with the Community in Hanoi! About DeutschenTreff The DeutschenTreff is a casual networking event for the German Speaking Community and open for everyone - from Intern to C-Level - we encourage you to meet at the DeutschenTreff and have a beer together!
URL:https://gba-vietnam.org/eventer/deutschentreff-hanoi-in-july-summer-edition/
END:VEVENT
END:VCALENDAR
