BEGIN:VCALENDAR
VERSION:2.0
PRODID:Imitheme.com 
BEGIN:VEVENT
UID:20260421T151553180993980
DTSTAMP;TZID=UTC:2026-04-21 15:15:53
DTSTART;TZID=Asia/Ho_Chi_Minh:20260421T151553
DTEND;TZID=Asia/Ho_Chi_Minh:20260421T151553
SUMMARY:GBA Football Tournament 2019
LOCATION:
DESCRIPTION: 
URL:https://gba-vietnam.org/eventer/gba-football-tournament-2019/
END:VEVENT
END:VCALENDAR
