BEGIN:VCALENDAR
VERSION:2.0
PRODID:Imitheme.com 
BEGIN:VEVENT
UID:20260422T152052456517949
DTSTAMP;TZID=UTC:2026-04-22 15:20:52
DTSTART;TZID=Asia/Ho_Chi_Minh:20260422T152052
DTEND;TZID=Asia/Ho_Chi_Minh:20260422T152052
SUMMARY:SBA Stamm March 2019
LOCATION:
DESCRIPTION:
URL:https://gba-vietnam.org/eventer/sba-stamm-march-2019-2/
END:VEVENT
END:VCALENDAR
