BEGIN:VCALENDAR
VERSION:2.0
PRODID:Imitheme.com 
BEGIN:VEVENT
UID:20260422T1520501661281913
DTSTAMP;TZID=UTC:2026-04-22 15:20:50
DTSTART;TZID=Asia/Ho_Chi_Minh:20260422T152050
DTEND;TZID=Asia/Ho_Chi_Minh:20260422T152050
SUMMARY:CEEC Share & (L)Earn workshop on â€œHow to be sound and safe on the Vietnamese market?â€
LOCATION:
DESCRIPTION:
URL:https://gba-vietnam.org/eventer/ceec-share-learn-workshop-on-aeoehow-to-be-sound-and-safe-on-the-vietnamese-marketae%c2%9d/
END:VEVENT
END:VCALENDAR
