BEGIN:VCALENDAR
VERSION:2.0
PRODID:Imitheme.com 
BEGIN:VEVENT
UID:20260421T1516311580065864
DTSTAMP;TZID=UTC:2026-04-21 15:16:31
DTSTART;TZID=Asia/Ho_Chi_Minh:20260421T151631
DTEND;TZID=Asia/Ho_Chi_Minh:20260421T151631
SUMMARY:Supported Event: German Speaking Catholic Parish in Ho Chi Minh City
LOCATION:
DESCRIPTION:
URL:https://gba-vietnam.org/eventer/supported-event-german-speaking-catholic-parish-in-ho-chi-minh-city/
END:VEVENT
END:VCALENDAR
