BEGIN:VCALENDAR
VERSION:2.0
PRODID:Imitheme.com 
BEGIN:VEVENT
UID:20260422T1520501078140119
DTSTAMP;TZID=UTC:2026-04-22 15:20:50
DTSTART;TZID=Asia/Ho_Chi_Minh:20260422T152050
DTEND;TZID=Asia/Ho_Chi_Minh:20260422T152050
SUMMARY:GBA New Year's Reception - Dancing on the Roof
LOCATION:
DESCRIPTION:Dear GBA members & friends - Only for you Have you got your "New Year’s Reception" tickets yet? Don’t Miss it! You still have a chance. Book your tickets now for a final promotional offer: Buy 4 tickets to get 1,000,000 VND discount (Only 1,950,000 VND/ticket) Please save your Saturday Night with us to join our black tie-event* with a red-carpet reception with whisky Chivas 18 Blue Signature, champagne, natural botanical drinks and selected Canapés accompanied with a classical musical-welcome by a string trio of the Saigon Philharmonic Orchestra; and to celebrate the Gala Dinner with fireworks, live jazzy music, surprise performers, sumptuous buffet dinner by Saigon’s best chef, Mr. Vinh, Zuma Dubai, best dress awards** and dancing. Lucky Draw with fantastic prizes from attractive Hotel, Bar and Resort’s vouchers for you next city escape from Avani Quy Nhon Resort & Spa, Anantara Quy Nhon Villas, Anantara Hoi An Resort, Azerai Cantho, Ana Mandara Dalat, FLC Quy Nhon Beach & Golf Resort, FLC Sam Son Beach & Golf Resort, Intercontinental Phu Quoc Long Beach Resort, Intercontinental Danang Sun Peninsula Resort, JW Marriott Phu Quoc Emerald Bay Resort & Spa, Lotte Legend Hotel Saigon, Tam Coc Garden, Sol Beach House Phu Quoc, The Grand Ho Tram Strip, The Reverie Saigon Hotel, Park Hyatt Saigon, The Anam, Sky XX Garden, Z Lounge and uxury brands such as KieuCurate, Lamy Pen, Mercedes Benz Vietnam, Orient Skincare & Laser Centre, Pernod Ricard,  United Potteries Saigon...   Don’t Miss it. It is only 01 time per year. To buy tickets, please contact Ms. Mai: mai@gba-vietnam.org /+84 919 558 133 For more information, please visit our GBA website: www.gba-vietnam.org * black tie/ tuxedo for men is intended dress code but not obligatory. ** for the Best Dress Award there will be three categories in open contest: 1. most glamorous lady, 2. most posh couple 3. most tragic outfit (consolation price) See you this Saturday Night!  
URL:https://gba-vietnam.org/eventer/gba-new-years-reception-dancing-on-the-roof/
END:VEVENT
END:VCALENDAR
