BEGIN:VCALENDAR
VERSION:2.0
PRODID:Imitheme.com 
BEGIN:VEVENT
UID:20260421T1516551145759974
DTSTAMP;TZID=UTC:2026-04-21 15:16:55
DTSTART;TZID=Asia/Ho_Chi_Minh:20260421T151655
DTEND;TZID=Asia/Ho_Chi_Minh:20260421T151655
SUMMARY:Supported Event: Oktoberfest in Danang
LOCATION:
DESCRIPTION:This year, our member brings the Oktoberfest to the center of Vietnam. If you are living and working in Danang, or you are on business trip this 2nd and 3rd August there, do not forget to join this great event to enjoy live music, free flow of German beer together with German buffet and get a chance to win the attractive lucky draw prizes. Visit their website for more details: www.danangbeerfest.com/en/home/
URL:https://gba-vietnam.org/eventer/supported-event-oktoberfest-in-danang/
END:VEVENT
END:VCALENDAR
