BEGIN:VCALENDAR
VERSION:2.0
PRODID:Imitheme.com 
BEGIN:VEVENT
UID:20260422T1520561866000775
DTSTAMP;TZID=UTC:2026-04-22 15:20:56
DTSTART;TZID=Asia/Ho_Chi_Minh:20260422T152056
DTEND;TZID=Asia/Ho_Chi_Minh:20260422T152056
SUMMARY:Supported Event: EVFTA â€“ Trade And Investment Opportunities For Ba Ria- Vung Tau Province
LOCATION:
DESCRIPTION:EuroCham and the Ministry of Foreign Affairs will co-organise a round table between European businesses and Ba Ria – Vung Tau People’s Committee. Vice Minister of Foreign Affairs Bui Thanh Son, Chairman of Ba Ria – Vung Tau People’s Council Nguyen Hong Linh and relevant authorities will participate and listen to the concerns of the European business community regarding investing and operating in the province, in the light of the upcoming EVFTA. Time: 10am—2pm, 2 August 2019 Venue: Palace Hotel, No. 1, Nguyen Trai street, Ward 1, Vung Tau City, Bus pickup at EuroCham HCMC Office Registration & Agenda: Click here
URL:https://gba-vietnam.org/eventer/supported-event-evfta-ae-trade-and-investment-opportunities-for-ba-ria-vung-tau-province/
END:VEVENT
END:VCALENDAR
