BEGIN:VCALENDAR
VERSION:2.0
PRODID:Imitheme.com 
BEGIN:VEVENT
UID:20260421T1516321872464653
DTSTAMP;TZID=UTC:2026-04-21 15:16:32
DTSTART;TZID=Asia/Ho_Chi_Minh:20260421T151632
DTEND;TZID=Asia/Ho_Chi_Minh:20260421T151632
SUMMARY:SBA Stamm July 2019
LOCATION:
DESCRIPTION:
URL:https://gba-vietnam.org/eventer/sba-stamm-july-2019/
END:VEVENT
END:VCALENDAR
