BEGIN:VCALENDAR
VERSION:2.0
PRODID:Imitheme.com 
BEGIN:VEVENT
UID:20260419T2031401928576751
DTSTAMP;TZID=UTC:2026-04-19 20:31:40
DTSTART;TZID=Asia/Ho_Chi_Minh:20260419T203140
DTEND;TZID=Asia/Ho_Chi_Minh:20260419T203140
SUMMARY:Supported event: Meet FC Bayern legend Giovane Elber in Vietnam
LOCATION:
DESCRIPTION:Meet FC Bayern legend Giovane Elber in Vietnam Mr. Giovane Elber, one of the top 10 strikers in FC Bayern’s history, is visiting Vietnam this April 27 to meet and greet with hundreds of fans at Hoa Lu Stadium, Ho Chi Minh City. The event marks the 1st anniversary of the regional partnership of FC Bayern and Häfele. It is also considered as a meaningful event for the German community in Vietnam as witnessing the handshake of two giants from Germany. The most special part of the event will be the thrilling futsal match between two teams led by Giovane Elber and a Vietnamese football legend – Nguyen Anh Duc, who earned the Champion Cup for the Vietnam National Team in AFF Cup 2018.  Starting at 2pm on April 27th, the event will also feature exciting activities for fans such as football games to get gifts from FC Bayern, photo sessions with the two legends, lucky draw to win valuable prizes including Hafele products and signed jerseys of famous players from FC Bayern, and tickets to join the evening party with both legends.  The exclusive party in the evening will take place at SkyXX Garden & Lounge located on the 20th floor of the Deutsches Haus, where both Giovane Elber & Nguyen Anh Duc will enjoy entertaining & appreciation performances with VIP guests and lucky fans (by invitation only).  The event is proudly sponsored by Audi Vietnam, Deutsches Haus Ho Chi Minh City, and Sky XX - Garden & Lounge. For further details and free registration, click HERE.  
URL:https://gba-vietnam.org/eventer/supported-event-meet-fc-bayern-legend-giovane-elber-in-vietnam/
END:VEVENT
END:VCALENDAR
