BEGIN:VCALENDAR
VERSION:2.0
PRODID:Imitheme.com 
BEGIN:VEVENT
UID:20260422T152113460404794
DTSTAMP;TZID=UTC:2026-04-22 15:21:13
DTSTART;TZID=Asia/Ho_Chi_Minh:20260422T152113
DTEND;TZID=Asia/Ho_Chi_Minh:20260422T152113
SUMMARY:GBA Football Tournament 2018 - Registration and Sponsorship Opportunities
LOCATION:
DESCRIPTION:
URL:https://gba-vietnam.org/eventer/gba-football-tournament-2018-registration-and-sponsorship-opportunities/
END:VEVENT
END:VCALENDAR
