BEGIN:VCALENDAR
VERSION:2.0
PRODID:Imitheme.com 
BEGIN:VEVENT
UID:20260422T152032204225041
DTSTAMP;TZID=UTC:2026-04-22 15:20:32
DTSTART;TZID=Asia/Ho_Chi_Minh:20260422T152032
DTEND;TZID=Asia/Ho_Chi_Minh:20260422T152032
SUMMARY:Belgian beer festival HCM 2018
LOCATION:
DESCRIPTION:
URL:https://gba-vietnam.org/eventer/belgian-beer-festival-hcm-2018/
END:VEVENT
END:VCALENDAR
