BEGIN:VCALENDAR
VERSION:2.0
PRODID:Imitheme.com 
BEGIN:VEVENT
UID:20260421T1516321282782211
DTSTAMP;TZID=UTC:2026-04-21 15:16:32
DTSTART;TZID=Asia/Ho_Chi_Minh:20260421T151632
DTEND;TZID=Asia/Ho_Chi_Minh:20260421T151632
SUMMARY:[Supported event]: German-Vietnamese dinner "The Blue Hour"
LOCATION:
DESCRIPTION:
URL:https://gba-vietnam.org/eventer/supported-event-german-vietnamese-dinner-the-blue-hour/
END:VEVENT
END:VCALENDAR
