BEGIN:VCALENDAR
VERSION:2.0
PRODID:Imitheme.com 
BEGIN:VEVENT
UID:20260421T151631567550691
DTSTAMP;TZID=UTC:2026-04-21 15:16:31
DTSTART;TZID=Asia/Ho_Chi_Minh:20260421T151631
DTEND;TZID=Asia/Ho_Chi_Minh:20260421T151631
SUMMARY:European Night, led by GBA
LOCATION:
DESCRIPTION:
URL:https://gba-vietnam.org/eventer/european-night-led-by-gba/
END:VEVENT
END:VCALENDAR
