BEGIN:VCALENDAR
VERSION:2.0
PRODID:Imitheme.com 
BEGIN:VEVENT
UID:20260422T152122477264946
DTSTAMP;TZID=UTC:2026-04-22 15:21:22
DTSTART;TZID=Asia/Ho_Chi_Minh:20260422T152122
DTEND;TZID=Asia/Ho_Chi_Minh:20260422T152122
SUMMARY:[CEEC] Share&(L)earn event - Tax update and optimization
LOCATION:
DESCRIPTION:CEEC, together with Mazars, is presenting the eight edition of Share & (L)Earn event. As usual with this format of event, participants will get the opportunity of first-hand information and presentation. This time the speakers will focus on Tax update and optimization.  The following topic will be presented: •    Updates on Tax and Mandatory insurance regulations •    Transfer Pricing: Structuring related party transactions from tax perspective Date: Thursday, 22 March 2018 Time: 9am – 11.30am Venue: The Metropolitan Building, CPA Australia, Suite 501, 5th Floor, 235 Dong Khoi, D1, HCMC If you wish to attend, please register by sending email to monika@ceecvn.org    
URL:https://gba-vietnam.org/eventer/ceec-sharelearn-event-tax-update-and-optimization/
END:VEVENT
END:VCALENDAR
