BEGIN:VCALENDAR
VERSION:2.0
PRODID:Imitheme.com 
BEGIN:VEVENT
UID:20260421T153147599491022
DTSTAMP;TZID=UTC:2026-04-21 15:31:47
DTSTART;TZID=Asia/Ho_Chi_Minh:20260421T153147
DTEND;TZID=Asia/Ho_Chi_Minh:20260421T153147
SUMMARY:SBA Stamm September 2018
LOCATION:
DESCRIPTION:
URL:https://gba-vietnam.org/eventer/sba-stamm-september-2018/
END:VEVENT
END:VCALENDAR
