BEGIN:VCALENDAR
VERSION:2.0
PRODID:Imitheme.com 
BEGIN:VEVENT
UID:20260421T151630300120932
DTSTAMP;TZID=UTC:2026-04-21 15:16:30
DTSTART;TZID=Asia/Ho_Chi_Minh:20260421T151630
DTEND;TZID=Asia/Ho_Chi_Minh:20260421T151630
SUMMARY:Business Thursdays
LOCATION:
DESCRIPTION:
URL:https://gba-vietnam.org/eventer/business-thursdays-4/
END:VEVENT
END:VCALENDAR
