BEGIN:VCALENDAR
VERSION:2.0
PRODID:Imitheme.com 
BEGIN:VEVENT
UID:20260421T1515491206615692
DTSTAMP;TZID=UTC:2026-04-21 15:15:49
DTSTART;TZID=Asia/Ho_Chi_Minh:20260421T151549
DTEND;TZID=Asia/Ho_Chi_Minh:20260421T151549
SUMMARY:GBA-AHK FANMEILE 2018 in HCMC - Germany vs. Sweden
LOCATION:
DESCRIPTION:Invitation will be updated soon.
URL:https://gba-vietnam.org/eventer/gba-ahk-fanmeile-2018-in-hcmc-germany-vs-sweden/
END:VEVENT
END:VCALENDAR
