BEGIN:VCALENDAR
VERSION:2.0
PRODID:Imitheme.com 
BEGIN:VEVENT
UID:20260423T180835245654931
DTSTAMP;TZID=UTC:2026-04-23 18:08:35
DTSTART;TZID=Asia/Ho_Chi_Minh:20260423T180835
DTEND;TZID=Asia/Ho_Chi_Minh:20260423T180835
SUMMARY:Netplus
LOCATION:
DESCRIPTION:
URL:https://gba-vietnam.org/eventer/netplus/
END:VEVENT
END:VCALENDAR
