BEGIN:VCALENDAR
VERSION:2.0
PRODID:Imitheme.com 
BEGIN:VEVENT
UID:20260423T15370640489755
DTSTAMP;TZID=UTC:2026-04-23 15:37:06
DTSTART;TZID=Asia/Ho_Chi_Minh:20260423T153706
DTEND;TZID=Asia/Ho_Chi_Minh:20260423T153706
SUMMARY:DeutschenTreff
LOCATION:
DESCRIPTION:
URL:https://gba-vietnam.org/eventer/deutschentreff-13/
END:VEVENT
END:VCALENDAR
