BEGIN:VCALENDAR
VERSION:2.0
PRODID:Imitheme.com 
BEGIN:VEVENT
UID:20260422T1644081438205429
DTSTAMP;TZID=UTC:2026-04-22 16:44:08
DTSTART;TZID=Asia/Ho_Chi_Minh:20260422T164408
DTEND;TZID=Asia/Ho_Chi_Minh:20260422T164408
SUMMARY:Oktoberfest HCMC - Tickets are now on sale!
LOCATION:
DESCRIPTION:Please send your ticket requests to our team by: - Oktoberfest Ho Chi Minh City: Email: oktoberfestsaigon@gba-vietnam.org or +84 903 720 788 - Oktoberfest Hanoi: Email: oktoberfesthanoi@gba-vietnam.org or +84 909 883 230 Visit the GBA Oktoberfest official website for more details: http://www.vietnamoktoberfest.com/ 
URL:https://gba-vietnam.org/eventer/oktoberfest-hcmc-tickets-are-now-on-sale/
END:VEVENT
END:VCALENDAR
