BEGIN:VCALENDAR
VERSION:2.0
PRODID:Imitheme.com 
BEGIN:VEVENT
UID:20260421T151634731830524
DTSTAMP;TZID=UTC:2026-04-21 15:16:34
DTSTART;TZID=Asia/Ho_Chi_Minh:20260421T151634
DTEND;TZID=Asia/Ho_Chi_Minh:20260421T151634
SUMMARY:SBA Business Dinner
LOCATION:
DESCRIPTION:The Swiss Business Association is organizing a business dinner on Tuesday, 19th September 2017 at which Azrael Jeffery M.Ed. Ph.D. (Candidate), Managing Director of International Center for Cognitive Development, Ho Chi Minh City, will speak to you about the impact of attitude on work and life. Mindsets and behaviors affect attitude. Hence, choices can be made to move in a positive direction and, in turn, positively affect not only your own life but also those of co-workers and teams. The topic that Azrael Jeffrey will be presenting is therefore not only useful for yourself, but will also help those responsible managing teams and/or Human Resource Managers.  The event will take place as follows: - Topic: The Impact of Attitude on Work and Life. - Time: From 18:00 to 20:30 - Venue: Park Hyatt Saigon (Room 5), 2 Lam Son Square, District 1, HCMC.   Event fees: VND 1,100,000/Member & VND 1,250,000/Non-Member (including set dinner, soft drinks and beer) For registration please contact: office@swissvietnam.com
URL:https://gba-vietnam.org/eventer/sba-business-dinner/
END:VEVENT
END:VCALENDAR
