BEGIN:VCALENDAR
VERSION:2.0
PRODID:Imitheme.com 
BEGIN:VEVENT
UID:20260422T152036458562854
DTSTAMP;TZID=UTC:2026-04-22 15:20:36
DTSTART;TZID=Asia/Ho_Chi_Minh:20260422T152036
DTEND;TZID=Asia/Ho_Chi_Minh:20260422T152036
SUMMARY:European Night: Italy in the 60s - LA DOLCE VITA
LOCATION:
DESCRIPTION:Dear Members & Friends, We are pleased to inform you that the 1st edition of European Night - previously known as NetPlus - will be hosted by the Italian Chamber Of Commerce In Vietnam with the theme "Italy in the 60s: LA DOLCE VITA" at one of the best Italian restaurant \'NAMO Tuscan Grill. Last year the Netplus led by ICHAM attracted many guests from Vietnamese and European companies. Following this success, the brand new European Night promises to be an awesome place to come and relax with authentic Italian gastronomy and activities: - Mini fashion show - Italian canapé - Lucky draw with winning prize of Ticket to Europe sponsored by Turkish Airlines Bring your friends and partners to come join us! - When: 6.00pm –8.00pm, Wednesday 28th June 2016 - Where: NAMO Tuscan Grill, 146-148 Pasteur, District 1, HCMC - Entrance: free for members of GBA, Eurocham and Eurocham’s partner associations, 100.000 VND/pax for non-members Registration: email to info@icham.org within June 26th.   We look forward to welcoming you at this special event!
URL:https://gba-vietnam.org/eventer/european-night-italy-in-the-60s-la-dolce-vita/
END:VEVENT
END:VCALENDAR
