BEGIN:VCALENDAR
VERSION:2.0
PRODID:Imitheme.com 
BEGIN:VEVENT
UID:20260422T152026130133034
DTSTAMP;TZID=UTC:2026-04-22 15:20:26
DTSTART;TZID=Asia/Ho_Chi_Minh:20260422T152026
DTEND;TZID=Asia/Ho_Chi_Minh:20260422T152026
SUMMARY:Well-being at Work Training
LOCATION:
DESCRIPTION:
URL:https://gba-vietnam.org/eventer/well-being-at-work-training/
END:VEVENT
END:VCALENDAR
