BEGIN:VCALENDAR
VERSION:2.0
PRODID:Imitheme.com 
BEGIN:VEVENT
UID:20260421T151651248136052
DTSTAMP;TZID=UTC:2026-04-21 15:16:51
DTSTART;TZID=Asia/Ho_Chi_Minh:20260421T151651
DTEND;TZID=Asia/Ho_Chi_Minh:20260421T151651
SUMMARY:FeierAbend!Treff
LOCATION:
DESCRIPTION:
URL:https://gba-vietnam.org/eventer/feierabendtreff-17/
END:VEVENT
END:VCALENDAR
