BEGIN:VCALENDAR
VERSION:2.0
PRODID:Imitheme.com 
BEGIN:VEVENT
UID:20260421T1516521813842880
DTSTAMP;TZID=UTC:2026-04-21 15:16:52
DTSTART;TZID=Asia/Ho_Chi_Minh:20260421T151652
DTEND;TZID=Asia/Ho_Chi_Minh:20260421T151652
SUMMARY:DeutschenTreff
LOCATION:
DESCRIPTION:
URL:https://gba-vietnam.org/eventer/deutschentreff-11/
END:VEVENT
END:VCALENDAR
