BEGIN:VCALENDAR
VERSION:2.0
PRODID:Imitheme.com 
BEGIN:VEVENT
UID:20260423T183905214617587
DTSTAMP;TZID=UTC:2026-04-23 18:39:05
DTSTART;TZID=Asia/Ho_Chi_Minh:20260423T183905
DTEND;TZID=Asia/Ho_Chi_Minh:20260423T183905
SUMMARY:Dutch Open 2016 - DBAV's Charity Golf Tournament
LOCATION:
DESCRIPTION:
URL:https://gba-vietnam.org/eventer/dutch-open-2016-dbavs-charity-golf-tournament/
END:VEVENT
END:VCALENDAR
