BEGIN:VCALENDAR
VERSION:2.0
PRODID:Imitheme.com 
BEGIN:VEVENT
UID:20260421T1516341142141197
DTSTAMP;TZID=UTC:2026-04-21 15:16:34
DTSTART;TZID=Asia/Ho_Chi_Minh:20260421T151634
DTEND;TZID=Asia/Ho_Chi_Minh:20260421T151634
SUMMARY:Excursion
LOCATION:
DESCRIPTION:Dear Members and Friends, we would like to invite you to the GBA excursion to: TÜV SÜD VIETNAM CO., LTD Lot III-26, 19/5A street, Industry Group III, Tan Binh Industrial Park, Tay Thanh Ward, Tan Phu District, HCM City on Friday, 16 September 2016, starting 10:00 AM TÜV SÜD Vietnam‘s multi million Euros “State of the Art” Softlines & Food Laboratory was inaugurated in 2010. This ISO 17025 accredited lab is to provide full spectrum of testing services covering chemical, physical, microbiological to footwear, garment, textile and food related product in compliance to Vietnam and International Product Safety and Quality regulation. The year 2016 marks the 150th anniversary of TÜV SÜD – a premium quality, safety, and sustainability solutions provider that specialises in testing, inspection, auditing, certification, training, and knowledge services. Since 1866, the company has remained committed to its founding principle of protecting people, property and the environment from technology-related risks. Pick-up point:          Lobby of Somerset Chancellor Court, 21-23 Nguyen Thi Minh Khai Street, District 1, Ho Chi Minh City The bus will departure at 09:00 AM sharp Programme: 10:00     Guest Arrival 10:05     Welcome Address by General Director of TÜV SÜD Vietnam – Mr. Sathish Kumar Somuraj 10:10     Corporate Presentation and Lab Introduction of TÜV SÜD Vietnam 10:20     Softlines Laboratory Tour in Level 04. 10:40     Food, Health & Beauty Laboratory Tour in Level 03. 11:00     Q&A. 11:30     Lunch Networking @ Level 06, Golf Club Cafeteria. 12:30     Excursion ended                                 Participation fee:      - GBA members: FOC - Non-member: VND 200,000 per person                                     Registration is on a first come, first served basis and capacity is limited to 20 guests. Please confirm your attendance to Ms. Khanh Linh at linh@gba-vietnam.org latest on Tuesday, 13 September 2016. We look forward to welcoming you, The GBA Team. German Business Association 05th floor - Somerset Chancellor Court 21-23 Nguyen Thi Minh Khai Street District 1 - Ho Chi Minh City – Vietnam m: (84) 9 09 883 230 t:   (84) (8) 3823 97 72 – ext: 114 f:   (84) (8) 3823 89 09 e:  linh@gba-vietnam.org w: www.gba-vietnam.org
URL:https://gba-vietnam.org/eventer/excursion-2/
END:VEVENT
END:VCALENDAR
