BEGIN:VCALENDAR
VERSION:2.0
PRODID:Imitheme.com 
BEGIN:VEVENT
UID:20260422T1520341314745535
DTSTAMP;TZID=UTC:2026-04-22 15:20:34
DTSTART;TZID=Asia/Ho_Chi_Minh:20260422T152034
DTEND;TZID=Asia/Ho_Chi_Minh:20260422T152034
SUMMARY:SBA Stamm August 2016
LOCATION:
DESCRIPTION:
URL:https://gba-vietnam.org/eventer/sba-stamm-august-2016/
END:VEVENT
END:VCALENDAR
