BEGIN:VCALENDAR
VERSION:2.0
PRODID:Imitheme.com 
BEGIN:VEVENT
UID:20260422T1644091279671534
DTSTAMP;TZID=UTC:2026-04-22 16:44:09
DTSTART;TZID=Asia/Ho_Chi_Minh:20260422T164409
DTEND;TZID=Asia/Ho_Chi_Minh:20260422T164409
SUMMARY:FeierAbend!Treff
LOCATION:
DESCRIPTION: 
URL:https://gba-vietnam.org/eventer/feierabendtreff-10/
END:VEVENT
END:VCALENDAR
