BEGIN:VCALENDAR
VERSION:2.0
PRODID:Imitheme.com 
BEGIN:VEVENT
UID:20260423T183907513425035
DTSTAMP;TZID=UTC:2026-04-23 18:39:07
DTSTART;TZID=Asia/Ho_Chi_Minh:20260423T183907
DTEND;TZID=Asia/Ho_Chi_Minh:20260423T183907
SUMMARY:BBGV Investment Trade Mission to Da Nang city
LOCATION:
DESCRIPTION:
URL:https://gba-vietnam.org/eventer/bbgv-investment-trade-mission-to-da-nang-city/
END:VEVENT
END:VCALENDAR
