BEGIN:VCALENDAR
VERSION:2.0
PRODID:Imitheme.com 
BEGIN:VEVENT
UID:20260421T1516541774951018
DTSTAMP;TZID=UTC:2026-04-21 15:16:54
DTSTART;TZID=Asia/Ho_Chi_Minh:20260421T151654
DTEND;TZID=Asia/Ho_Chi_Minh:20260421T151654
SUMMARY:Beratungstag
LOCATION:
DESCRIPTION:
URL:https://gba-vietnam.org/eventer/beratungstag/
END:VEVENT
END:VCALENDAR
