BEGIN:VCALENDAR
VERSION:2.0
PRODID:Imitheme.com 
BEGIN:VEVENT
UID:20260421T1516281500328905
DTSTAMP;TZID=UTC:2026-04-21 15:16:28
DTSTART;TZID=Asia/Ho_Chi_Minh:20260421T151628
DTEND;TZID=Asia/Ho_Chi_Minh:20260421T151628
SUMMARY:Informationsveranstaltung, ggf. gemeinsam mit Singapur
LOCATION:
DESCRIPTION:
URL:https://gba-vietnam.org/eventer/informationsveranstaltung-ggf-gemeinsam-mit-singapur/
END:VEVENT
END:VCALENDAR
