BEGIN:VCALENDAR
VERSION:2.0
PRODID:Imitheme.com 
BEGIN:VEVENT
UID:20260422T1650241730935695
DTSTAMP;TZID=UTC:2026-04-22 16:50:24
DTSTART;TZID=Asia/Ho_Chi_Minh:20260422T165024
DTEND;TZID=Asia/Ho_Chi_Minh:20260422T165024
SUMMARY:Intralogistiknetzwerk BW: Was geht in China und Vietnam?
LOCATION:
DESCRIPTION:Contact: Intralogistik-Netzwerk BW e.V. Tel:  0711 / 78237173 *File: www.intralogistik-bw.de/event/i-n-uebersee-club/
URL:https://gba-vietnam.org/eventer/intralogistiknetzwerk-bw-was-geht-in-china-und-vietnam/
END:VEVENT
END:VCALENDAR
