BEGIN:VCALENDAR
VERSION:2.0
PRODID:Imitheme.com 
BEGIN:VEVENT
UID:20260421T1516311117410413
DTSTAMP;TZID=UTC:2026-04-21 15:16:31
DTSTART;TZID=Asia/Ho_Chi_Minh:20260421T151631
DTEND;TZID=Asia/Ho_Chi_Minh:20260421T151631
SUMMARY:DBAV event: Dutch Open 2015: Get Ready for a Day on the Fairway!
LOCATION:
DESCRIPTION:Dear Members, Friends and Partners, Time to start practicing your putting, chipping and driving! DBAV is excited to announce that the premier business networking golf tournament of Vietnam, Dutch Open, is back on November 20th! Be sure to take advantage of early bird rates and register as soon as possible. Registration form is attached! We are also accepting sponsors at this time. If you are interested, please contact us at dutchopen@dbav.org.vn or info@dbav.org.vn For more information, please visit DBAV website  
URL:https://gba-vietnam.org/eventer/dbav-event-dutch-open-2015-get-ready-for-a-day-on-the-fairway/
END:VEVENT
END:VCALENDAR
